BEGIN:VCALENDAR
VERSION:2.0
PRODID:-//Draycott in the Moors Parish Council//Meeting Calendar//EN
CALSCALE:GREGORIAN
METHOD:PUBLISH
BEGIN:VEVENT
UID:70743-20250915@draycottinthemoorsparishcouncil.gov.uk
DTSTAMP:20260424T083332Z
DTSTART;VALUE=DATE:20250915
DTEND;VALUE=DATE:20250916
SUMMARY:15th September 2025 Draycott-in-the-Moors Parish Council
DESCRIPTION:Full Council Meeting\nView details: https://draycottinthemoorsparishcouncil.gov.uk/meetings/15th-september-2025-draycott-in-the-moors-parish-council/
URL:https://draycottinthemoorsparishcouncil.gov.uk/meetings/15th-september-2025-draycott-in-the-moors-parish-council/
END:VEVENT
END:VCALENDAR
