BEGIN:VCALENDAR
VERSION:2.0
PRODID:-//Draycott in the Moors Parish Council//Meeting Calendar//EN
CALSCALE:GREGORIAN
METHOD:PUBLISH
BEGIN:VEVENT
UID:70728-20250811@draycottinthemoorsparishcouncil.gov.uk
DTSTAMP:20260424T083332Z
DTSTART;VALUE=DATE:20250811
DTEND;VALUE=DATE:20250812
SUMMARY:11th August 2025\\, Draycott-in-the-Moors Parish Council
DESCRIPTION:Full Council Meeting\nView details: https://draycottinthemoorsparishcouncil.gov.uk/meetings/28th-july-2025-draycott-in-the-moors-parish-council/
URL:https://draycottinthemoorsparishcouncil.gov.uk/meetings/28th-july-2025-draycott-in-the-moors-parish-council/
END:VEVENT
END:VCALENDAR
