BEGIN:VCALENDAR
VERSION:2.0
PRODID:-//Draycott in the Moors Parish Council//Meeting Calendar//EN
CALSCALE:GREGORIAN
METHOD:PUBLISH
BEGIN:VEVENT
UID:70712-20250609@draycottinthemoorsparishcouncil.gov.uk
DTSTAMP:20260424T083906Z
DTSTART;VALUE=DATE:20250609
DTEND;VALUE=DATE:20250610
SUMMARY:9th June 2025 Draycott-in-the-Moors Parish Council
DESCRIPTION:Full Council Meeting\nView details: https://draycottinthemoorsparishcouncil.gov.uk/meetings/draycott-in-the-moors-parish-council-9th-june-2025/
URL:https://draycottinthemoorsparishcouncil.gov.uk/meetings/draycott-in-the-moors-parish-council-9th-june-2025/
END:VEVENT
END:VCALENDAR
