BEGIN:VCALENDAR
VERSION:2.0
PRODID:-//Draycott in the Moors Parish Council//Meeting Calendar//EN
CALSCALE:GREGORIAN
METHOD:PUBLISH
BEGIN:VEVENT
UID:70708-20250512@draycottinthemoorsparishcouncil.gov.uk
DTSTAMP:20260420T162739Z
DTSTART;VALUE=DATE:20250512
DTEND;VALUE=DATE:20250513
SUMMARY:Annual Meeting of Draycott-in-the-Moors Parish Council 2025
DESCRIPTION:Annual Meeting\nView details: https://draycottinthemoorsparishcouncil.gov.uk/meetings/annual-meeting-of-draycott-in-the-moors-parish-council-2025/
URL:https://draycottinthemoorsparishcouncil.gov.uk/meetings/annual-meeting-of-draycott-in-the-moors-parish-council-2025/
END:VEVENT
END:VCALENDAR
