BEGIN:VCALENDAR
VERSION:2.0
PRODID:-//Draycott in the Moors Parish Council//Meeting Calendar//EN
CALSCALE:GREGORIAN
METHOD:PUBLISH
BEGIN:VEVENT
UID:70703-20250512@draycottinthemoorsparishcouncil.gov.uk
DTSTAMP:20260420T162738Z
DTSTART;VALUE=DATE:20250512
DTEND;VALUE=DATE:20250513
SUMMARY:Annual Parish Meeting (Parish Assembly)
DESCRIPTION:Annual Meeting\nView details: https://draycottinthemoorsparishcouncil.gov.uk/meetings/annual-parish-meeting-parish-assembly/
URL:https://draycottinthemoorsparishcouncil.gov.uk/meetings/annual-parish-meeting-parish-assembly/
END:VEVENT
END:VCALENDAR
