BEGIN:VCALENDAR
VERSION:2.0
PRODID:-//Draycott in the Moors Parish Council//Meeting Calendar//EN
CALSCALE:GREGORIAN
METHOD:PUBLISH
BEGIN:VEVENT
UID:70701-20250512@draycottinthemoorsparishcouncil.gov.uk
DTSTAMP:20260420T135911Z
DTSTART;VALUE=DATE:20250512
DTEND;VALUE=DATE:20250513
SUMMARY:Annual Meeting &#8211\\; Draycott-in-the-Moors Parish Council
DESCRIPTION:Full Council Meeting\nView details: https://draycottinthemoorsparishcouncil.gov.uk/meetings/annual-meeting-draycott-in-the-moors-parish-council/
URL:https://draycottinthemoorsparishcouncil.gov.uk/meetings/annual-meeting-draycott-in-the-moors-parish-council/
END:VEVENT
END:VCALENDAR
