BEGIN:VCALENDAR
VERSION:2.0
PRODID:-//Draycott in the Moors Parish Council//Meeting Calendar//EN
CALSCALE:GREGORIAN
METHOD:PUBLISH
BEGIN:VEVENT
UID:70695-20250414@draycottinthemoorsparishcouncil.gov.uk
DTSTAMP:20260420T150455Z
DTSTART;VALUE=DATE:20250414
DTEND;VALUE=DATE:20250415
SUMMARY:Draycott-in-the-Moors Parish Council 14th April 2025
DESCRIPTION:Full Council Meeting\nView details: https://draycottinthemoorsparishcouncil.gov.uk/meetings/draycott-in-the-moors-parish-council-14th-april-2025/
URL:https://draycottinthemoorsparishcouncil.gov.uk/meetings/draycott-in-the-moors-parish-council-14th-april-2025/
END:VEVENT
END:VCALENDAR
