BEGIN:VCALENDAR
VERSION:2.0
PRODID:-//Draycott in the Moors Parish Council//Meeting Calendar//EN
CALSCALE:GREGORIAN
METHOD:PUBLISH
BEGIN:VEVENT
UID:70688-20250310@draycottinthemoorsparishcouncil.gov.uk
DTSTAMP:20260420T151017Z
DTSTART;VALUE=DATE:20250310
DTEND;VALUE=DATE:20250311
SUMMARY:Draycott-in-the-Moors Parish Council 10th March 2025
DESCRIPTION:Full Council Meeting\nView details: https://draycottinthemoorsparishcouncil.gov.uk/meetings/draycott-in-the-moors-parish-council-10th-march-2025/
URL:https://draycottinthemoorsparishcouncil.gov.uk/meetings/draycott-in-the-moors-parish-council-10th-march-2025/
END:VEVENT
END:VCALENDAR
