BEGIN:VCALENDAR
VERSION:2.0
PRODID:-//Draycott in the Moors Parish Council//Meeting Calendar//EN
CALSCALE:GREGORIAN
METHOD:PUBLISH
BEGIN:VEVENT
UID:70669-20250210@draycottinthemoorsparishcouncil.gov.uk
DTSTAMP:20260420T150431Z
DTSTART;VALUE=DATE:20250210
DTEND;VALUE=DATE:20250211
SUMMARY:Full Council 10th February 2025 Draycott-in-the-Moors Parish Council
DESCRIPTION:Full Council Meeting\nView details: https://draycottinthemoorsparishcouncil.gov.uk/meetings/full-council-10th-february-2025/
URL:https://draycottinthemoorsparishcouncil.gov.uk/meetings/full-council-10th-february-2025/
END:VEVENT
END:VCALENDAR
