BEGIN:VCALENDAR
VERSION:2.0
PRODID:-//Draycott in the Moors Parish Council//Meeting Calendar//EN
CALSCALE:GREGORIAN
METHOD:PUBLISH
BEGIN:VEVENT
UID:70664-20250113@draycottinthemoorsparishcouncil.gov.uk
DTSTAMP:20260420T150414Z
DTSTART;VALUE=DATE:20250113
DTEND;VALUE=DATE:20250114
SUMMARY:Full Council 13th January 2025 Draycott-in-the-Moors Parish Council
DESCRIPTION:Full Council Meeting\nView details: https://draycottinthemoorsparishcouncil.gov.uk/meetings/draycott-in-the-moors-parish-council-3/
URL:https://draycottinthemoorsparishcouncil.gov.uk/meetings/draycott-in-the-moors-parish-council-3/
END:VEVENT
END:VCALENDAR
