BEGIN:VCALENDAR
VERSION:2.0
PRODID:-//Draycott in the Moors Parish Council//Meeting Calendar//EN
CALSCALE:GREGORIAN
METHOD:PUBLISH
BEGIN:VEVENT
UID:70659-20241111@draycottinthemoorsparishcouncil.gov.uk
DTSTAMP:20260420T162345Z
DTSTART;VALUE=DATE:20241111
DTEND;VALUE=DATE:20241112
SUMMARY:Full Council 11th November 2024 Draycott-in-the-Moors Parish Council
DESCRIPTION:Full Council Meeting\nView details: https://draycottinthemoorsparishcouncil.gov.uk/meetings/full-council-11th-november-2024-draycott-in-the-moors-parish-council/
URL:https://draycottinthemoorsparishcouncil.gov.uk/meetings/full-council-11th-november-2024-draycott-in-the-moors-parish-council/
END:VEVENT
END:VCALENDAR
