BEGIN:VCALENDAR
VERSION:2.0
PRODID:-//Draycott in the Moors Parish Council//Meeting Calendar//EN
CALSCALE:GREGORIAN
METHOD:PUBLISH
BEGIN:VEVENT
UID:70652-20240708@draycottinthemoorsparishcouncil.gov.uk
DTSTAMP:20260420T174144Z
DTSTART;VALUE=DATE:20240708
DTEND;VALUE=DATE:20240709
SUMMARY:Full Council 8th July 2024 Draycott in the Moors Parish Council 8th July 2024
DESCRIPTION:Full Council Meeting\nView details: https://draycottinthemoorsparishcouncil.gov.uk/meetings/draycott-in-the-moors-parish-council-8th-july-2024/
URL:https://draycottinthemoorsparishcouncil.gov.uk/meetings/draycott-in-the-moors-parish-council-8th-july-2024/
END:VEVENT
END:VCALENDAR
