BEGIN:VCALENDAR
VERSION:2.0
PRODID:-//Draycott in the Moors Parish Council//Meeting Calendar//EN
CALSCALE:GREGORIAN
METHOD:PUBLISH
BEGIN:VEVENT
UID:70648-20240513@draycottinthemoorsparishcouncil.gov.uk
DTSTAMP:20260420T162744Z
DTSTART;VALUE=DATE:20240513
DTEND;VALUE=DATE:20240514
SUMMARY:Annual Meeting 13th May 2024 Draycott-in-the-Moors Parish Council
DESCRIPTION:Annual Meeting\nView details: https://draycottinthemoorsparishcouncil.gov.uk/meetings/annual-meeting/
URL:https://draycottinthemoorsparishcouncil.gov.uk/meetings/annual-meeting/
END:VEVENT
END:VCALENDAR
