BEGIN:VCALENDAR
VERSION:2.0
PRODID:-//Draycott in the Moors Parish Council//Meeting Calendar//EN
CALSCALE:GREGORIAN
METHOD:PUBLISH
BEGIN:VEVENT
UID:70645-20240513@draycottinthemoorsparishcouncil.gov.uk
DTSTAMP:20260420T162619Z
DTSTART;VALUE=DATE:20240513
DTEND;VALUE=DATE:20240514
SUMMARY:Annual Parish Assembly 13th May 2024
DESCRIPTION:Annual Meeting\nView details: https://draycottinthemoorsparishcouncil.gov.uk/meetings/annual-parish-assembly/
URL:https://draycottinthemoorsparishcouncil.gov.uk/meetings/annual-parish-assembly/
END:VEVENT
END:VCALENDAR
