BEGIN:VCALENDAR
VERSION:2.0
PRODID:-//Draycott in the Moors Parish Council//Meeting Calendar//EN
CALSCALE:GREGORIAN
METHOD:PUBLISH
BEGIN:VEVENT
UID:70638-20241209@draycottinthemoorsparishcouncil.gov.uk
DTSTAMP:20260420T162738Z
DTSTART;VALUE=DATE:20241209
DTEND;VALUE=DATE:20241210
SUMMARY:Full Council 9th December 2024 Draycott-in-the-Moors Parish Council
DESCRIPTION:Full Council Meeting\nView details: https://draycottinthemoorsparishcouncil.gov.uk/meetings/meeting-name-here/
URL:https://draycottinthemoorsparishcouncil.gov.uk/meetings/meeting-name-here/
END:VEVENT
END:VCALENDAR
