BEGIN:VCALENDAR
VERSION:2.0
PRODID:-//Draycott in the Moors Parish Council//Meeting Calendar//EN
CALSCALE:GREGORIAN
METHOD:PUBLISH
BEGIN:VEVENT
UID:70613-20210322@draycottinthemoorsparishcouncil.gov.uk
DTSTAMP:20260420T175316Z
DTSTART;VALUE=DATE:20210322
DTEND;VALUE=DATE:20210323
SUMMARY:Parishes Together &#8211\\; 22nd March 2021
DESCRIPTION:Parishes Together Meeting\nView details: https://draycottinthemoorsparishcouncil.gov.uk/meetings/parishes-together-22nd-march-2021/
URL:https://draycottinthemoorsparishcouncil.gov.uk/meetings/parishes-together-22nd-march-2021/
END:VEVENT
END:VCALENDAR
