BEGIN:VCALENDAR
VERSION:2.0
PRODID:-//Draycott in the Moors Parish Council//Meeting Calendar//EN
CALSCALE:GREGORIAN
METHOD:PUBLISH
BEGIN:VEVENT
UID:70611-20210426@draycottinthemoorsparishcouncil.gov.uk
DTSTAMP:20260422T084425Z
DTSTART;VALUE=DATE:20210426
DTEND;VALUE=DATE:20210427
SUMMARY:Annual Parish Assembly &#8211\\; 26th April 2021
DESCRIPTION:Full Council Meeting\nView details: https://draycottinthemoorsparishcouncil.gov.uk/meetings/annual-parish-assembly-26th-april-2021/
URL:https://draycottinthemoorsparishcouncil.gov.uk/meetings/annual-parish-assembly-26th-april-2021/
END:VEVENT
END:VCALENDAR
