BEGIN:VCALENDAR
VERSION:2.0
PRODID:-//Draycott in the Moors Parish Council//Meeting Calendar//EN
CALSCALE:GREGORIAN
METHOD:PUBLISH
BEGIN:VEVENT
UID:70608-20210504@draycottinthemoorsparishcouncil.gov.uk
DTSTAMP:20260420T175342Z
DTSTART;VALUE=DATE:20210504
DTEND;VALUE=DATE:20210505
SUMMARY:Annual Meeting &#8211\\; 4th May 2021
DESCRIPTION:Annual Meeting\nView details: https://draycottinthemoorsparishcouncil.gov.uk/meetings/annual-meeting-4th-may-2021/
URL:https://draycottinthemoorsparishcouncil.gov.uk/meetings/annual-meeting-4th-may-2021/
END:VEVENT
END:VCALENDAR
