BEGIN:VCALENDAR
VERSION:2.0
PRODID:-//Draycott in the Moors Parish Council//Meeting Calendar//EN
CALSCALE:GREGORIAN
METHOD:PUBLISH
BEGIN:VEVENT
UID:70583-20220523@draycottinthemoorsparishcouncil.gov.uk
DTSTAMP:20260420T175133Z
DTSTART;VALUE=DATE:20220523
DTEND;VALUE=DATE:20220524
SUMMARY:Annual Parish Meeting &#8211\\; 23rd May 2022
DESCRIPTION:Annual Meeting\nView details: https://draycottinthemoorsparishcouncil.gov.uk/meetings/annual-parish-meeting-23rd-may-2022/
URL:https://draycottinthemoorsparishcouncil.gov.uk/meetings/annual-parish-meeting-23rd-may-2022/
END:VEVENT
END:VCALENDAR
