BEGIN:VCALENDAR
VERSION:2.0
PRODID:-//Draycott in the Moors Parish Council//Meeting Calendar//EN
CALSCALE:GREGORIAN
METHOD:PUBLISH
BEGIN:VEVENT
UID:70572-20220509@draycottinthemoorsparishcouncil.gov.uk
DTSTAMP:20260420T175316Z
DTSTART;VALUE=DATE:20220509
DTEND;VALUE=DATE:20220510
SUMMARY:Annual Meeting &#8211\\; 9th May 2022
DESCRIPTION:Annual Meeting\nView details: https://draycottinthemoorsparishcouncil.gov.uk/meetings/annual-meeting-9th-may-2022/
URL:https://draycottinthemoorsparishcouncil.gov.uk/meetings/annual-meeting-9th-may-2022/
END:VEVENT
END:VCALENDAR
