BEGIN:VCALENDAR
VERSION:2.0
PRODID:-//Draycott in the Moors Parish Council//Meeting Calendar//EN
CALSCALE:GREGORIAN
METHOD:PUBLISH
BEGIN:VEVENT
UID:70550-20230515@draycottinthemoorsparishcouncil.gov.uk
DTSTAMP:20260420T175518Z
DTSTART;VALUE=DATE:20230515
DTEND;VALUE=DATE:20230516
SUMMARY:Annual Parish Meeting  &#8211\\; 15th May 2023
DESCRIPTION:Annual Meeting\nView details: https://draycottinthemoorsparishcouncil.gov.uk/meetings/annual-parish-meeting-15th-may-2023/
URL:https://draycottinthemoorsparishcouncil.gov.uk/meetings/annual-parish-meeting-15th-may-2023/
END:VEVENT
END:VCALENDAR
