BEGIN:VCALENDAR
VERSION:2.0
PRODID:-//Draycott in the Moors Parish Council//Meeting Calendar//EN
CALSCALE:GREGORIAN
METHOD:PUBLISH
BEGIN:VEVENT
UID:70529-20230101@draycottinthemoorsparishcouncil.gov.uk
DTSTAMP:20260424T082347Z
DTSTART;VALUE=DATE:20230101
DTEND;VALUE=DATE:20230102
SUMMARY:Full Council Meetings &#8211\\; 2023
DESCRIPTION:Full Council Meeting\nView details: https://draycottinthemoorsparishcouncil.gov.uk/meetings/full-council-meetings-2023/
URL:https://draycottinthemoorsparishcouncil.gov.uk/meetings/full-council-meetings-2023/
END:VEVENT
END:VCALENDAR
