BEGIN:VCALENDAR
VERSION:2.0
PRODID:-//Draycott in the Moors Parish Council//Meeting Calendar//EN
CALSCALE:GREGORIAN
METHOD:PUBLISH
BEGIN:VEVENT
UID:70523-20240205@draycottinthemoorsparishcouncil.gov.uk
DTSTAMP:20260420T175840Z
DTSTART;VALUE=DATE:20240205
DTEND;VALUE=DATE:20240206
SUMMARY:Parishes Together Meeting &#8211\\; 5th February 2024
DESCRIPTION:Parishes Together Meeting\nView details: https://draycottinthemoorsparishcouncil.gov.uk/meetings/parishes-together-meeting-5th-may-2024/
URL:https://draycottinthemoorsparishcouncil.gov.uk/meetings/parishes-together-meeting-5th-may-2024/
END:VEVENT
END:VCALENDAR
