BEGIN:VCALENDAR
VERSION:2.0
PRODID:-//Draycott in the Moors Parish Council//Meeting Calendar//EN
CALSCALE:GREGORIAN
METHOD:PUBLISH
BEGIN:VEVENT
UID:70520-20240212@draycottinthemoorsparishcouncil.gov.uk
DTSTAMP:20260424T084154Z
DTSTART;VALUE=DATE:20240212
DTEND;VALUE=DATE:20240213
SUMMARY:Full Council Meeting &#8211\\; 12th February 2024
DESCRIPTION:Full Council Meeting\nView details: https://draycottinthemoorsparishcouncil.gov.uk/meetings/full-council-meeting-12th-february-2024/
URL:https://draycottinthemoorsparishcouncil.gov.uk/meetings/full-council-meeting-12th-february-2024/
END:VEVENT
END:VCALENDAR
